BEGIN:VCALENDAR
VERSION:2.0
PRODID:-//Hunger auf Kunst und Kultur - ECPv6.15.20//NONSGML v1.0//EN
CALSCALE:GREGORIAN
METHOD:PUBLISH
X-ORIGINAL-URL:https://hakuk.st
X-WR-CALDESC:Veranstaltungen für Hunger auf Kunst und Kultur
REFRESH-INTERVAL;VALUE=DURATION:PT1H
X-Robots-Tag:noindex
X-PUBLISHED-TTL:PT1H
BEGIN:VTIMEZONE
TZID:Europe/Vienna
BEGIN:DAYLIGHT
TZOFFSETFROM:+0100
TZOFFSETTO:+0200
TZNAME:CEST
DTSTART:20220327T010000
END:DAYLIGHT
BEGIN:STANDARD
TZOFFSETFROM:+0200
TZOFFSETTO:+0100
TZNAME:CET
DTSTART:20221030T010000
END:STANDARD
BEGIN:DAYLIGHT
TZOFFSETFROM:+0100
TZOFFSETTO:+0200
TZNAME:CEST
DTSTART:20230326T010000
END:DAYLIGHT
BEGIN:STANDARD
TZOFFSETFROM:+0200
TZOFFSETTO:+0100
TZNAME:CET
DTSTART:20231029T010000
END:STANDARD
BEGIN:DAYLIGHT
TZOFFSETFROM:+0100
TZOFFSETTO:+0200
TZNAME:CEST
DTSTART:20240331T010000
END:DAYLIGHT
BEGIN:STANDARD
TZOFFSETFROM:+0200
TZOFFSETTO:+0100
TZNAME:CET
DTSTART:20241027T010000
END:STANDARD
END:VTIMEZONE
BEGIN:VEVENT
DTSTART;TZID=Europe/Vienna:20231122T160000
DTEND;TZID=Europe/Vienna:20231122T180000
DTSTAMP:20260419T154730
CREATED:20231115T065608Z
LAST-MODIFIED:20231115T065727Z
UID:214454-1700668800-1700676000@hakuk.st
SUMMARY:Kunsthalle Graz - Wien Wechsel Graz 2023 | Ausstellung
DESCRIPTION:Mittwoch\, 22. November – Donnerstag\, 7. Dezember  2023\, Di–Fr; 16:00 – 20:00 Uhr\, Kunsthalle Graz \nWiener Künstler*innen: Merlin Kratky\, Eva Petric\, Philipp Renda\nGrazer Künstler*innen: Yuliia Makarenko \, Jani W. Schwob\, Bruno Wildbach \nSeit dem Jahr 2019 besteht die Kooperation mit der Galerie GPLcontemporary in Wien. Bei den Ausstellungen werden die Arbeiten von jeweils 3 Künstler*innen des jeweiligen Artspaces gemeinsam präsentiert. Die Ausstellungsorte Kunsthalle Graz und die Galerie in Wien wechseln einander in der Präsentation von sechs Künstler*innen kontinuierlich ab. Merlin Kratky\, Eva Petric\, Philipp Renda\, die schon im vergangenen Jahr in der Wiener Galerie den drei Grazer Künstler*innen Stefanie Holler\, Verena Preininger\, Kurt Stadler gegenübergestellt wurden\, wechseln in die Kunsthalle Graz und treffen dort auf Yuliia Makarenko\, Jani W. Schwob\, Bruno Wildbach. \nAusstellung bis 07.12.2023\, Di–Fr; 16:00 – 20:00 Uhr \nMehr Info \nBild (c) Philipp Renda
URL:https://hakuk.st/event/kunsthalle-graz-wien-wechsel-graz-2023-ausstellung/2023-11-22/
LOCATION:Kunsthalle Graz\, Conrad von Hötzendorfstraße 42a\, Graz\, Steiermark\, 8010\, Österreich
CATEGORIES:-Steiermark,Graz / Graz Umgebung
ATTACH;FMTTYPE=image/jpeg:https://hakuk.st/wp-content/uploads/2023/11/229e4bc5-131c-e6b8-9b75-04fa24c5b422-e1700031116244.jpg
GEO:47.0600568;15.4441216
X-APPLE-STRUCTURED-LOCATION;VALUE=URI;X-ADDRESS=Kunsthalle Graz Conrad von Hötzendorfstraße 42a Graz Steiermark 8010 Österreich;X-APPLE-RADIUS=500;X-TITLE=Conrad von Hötzendorfstraße 42a:geo:15.4441216,47.0600568
END:VEVENT
BEGIN:VEVENT
DTSTART;TZID=Europe/Vienna:20230307T160000
DTEND;TZID=Europe/Vienna:20230307T200000
DTSTAMP:20260419T154730
CREATED:20230228T080244Z
LAST-MODIFIED:20230228T080244Z
UID:205258-1678204800-1678219200@hakuk.st
SUMMARY:Kunsthalle Graz - David Reumüller: "CLOSE UP – FADE OUT" | Ausstellung
DESCRIPTION:Dienstag\, 7. – 26. März 2023\, Di\, – Fr: 16:00 bis 20:00 Uhr\, Sa 25.03 & So 26.03.:13:00 – 18:00 Uhr\, Kunsthalle Graz \nNie nur eine Sichtweise \nKommunikation und Wahrnehmungsphänomene sind die im Werk des 1979 geborenen Grazer Künstlers David Reumüller immer wieder bearbeitete Themenfelder. Im Rahmenprogramm der Diag0nale errichtet der Künstler eine raumfüllende Installation unter dem Titel CLOSE UP – FADE OUT in der Kunsthalle Graz. Ein multimediales Szenario aus Gerüstkonstruktionen\, Videos\, Malerei und Ambient Sound\, das an ein verlassenes oder im Aufbau begriffenes Filmset erinnert. \nDie nach eigenen Erläuterungen angeführten „Oberflächen“ an Strukturbildern\, Netzkonstruktionen\, installativen Anordnungen oder akustischen Interventionen sind auslösende Elemente\, die gewollt auf die Assoziationsfähigkeit der Rezipienten abzielen. Seine Environments bedingen die Bewegung der BesucherInnen im Raum\, führen zu individuellen Blickpunkten und Perspektiven seitens der BetrachterInnen\, provozieren die Assoziation und Interpretation aus individueller Innensicht. Wahrnehmende sind somit konzeptueller Teil des Kunstwerks. \nFinissage: So 26.03.2023 ab 13:00 Uhr \nMehr Info \nBild: (c) Reumüller
URL:https://hakuk.st/event/kunsthalle-graz-david-reumueller-close-up-fade-out-ausstellung/2023-03-07/
LOCATION:Kunsthalle Graz\, Conrad von Hötzendorfstraße 42a\, Graz\, Steiermark\, 8010\, Österreich
CATEGORIES:-Steiermark,Graz / Graz Umgebung
ATTACH;FMTTYPE=image/jpeg:https://hakuk.st/wp-content/uploads/2023/02/Reumueller-03-1920-768x512-1-e1677567725383.jpg
GEO:47.0600568;15.4441216
X-APPLE-STRUCTURED-LOCATION;VALUE=URI;X-ADDRESS=Kunsthalle Graz Conrad von Hötzendorfstraße 42a Graz Steiermark 8010 Österreich;X-APPLE-RADIUS=500;X-TITLE=Conrad von Hötzendorfstraße 42a:geo:15.4441216,47.0600568
END:VEVENT
END:VCALENDAR